BEGIN:VCALENDAR
VERSION:2.0
PRODID:ics.py - http://git.io/lLljaA
BEGIN:VEVENT
DESCRIPTION:As part of the “18.45 Talks | From General to Specific\, From Specific to General” series\, a talk by Ceren Özşahin and Zeynep Tümertekin—architects of the 8th edition of Mamut Art Project and former Mamut artists—was held at İskele on Thursday\, December 30 at 18:45. After receiving education in different countries\, they came together to establish their own studio. The Studio Mada team shared their experiences through their talk titled “From General to Specific\, From Specific to General.”\r\n\r\nStudio Mada is an Istanbul-based multidisciplinary design and architecture studio founded in 2018 by Ceren Özşahin and Zeynep Tümertekin. They have worked across architecture\, interior architecture\, product design\, and exhibition design\, and have also developed projects focusing on alternative co-working and living spaces alongside exhibition design.
DTEND:20211230T235900Z
ORGANIZER;CN=Turkey Design Council:mailto:Turkey Design Council
DTSTART:20211230T000000Z
SUMMARY:Genelden Özele\, Özelden Genele
UID:736a7c2d-fc0c-439d-8c7b-c49470ee3272@736a.org
END:VEVENT
END:VCALENDAR