BEGIN:VCALENDAR
VERSION:2.0
PRODID:ics.py - http://git.io/lLljaA
BEGIN:VEVENT
DESCRIPTION:Madde - 1: Cam | Madde - 1 malzeme atölyesinin bu ayki konusu cam. İki bölümden oluşacak atölyenin ilk bölümünde Şişecam evsahipliğinde teorik bir sunum gerçekleştirilecek\; ardından farklı özelliklere ve fonksiyonlara sahip cam ürünlerin mekanlara ve günlük hayata etkileri deneyimlenecek. Atölye\, Şişecam’ın cam müzesi gezisiyle sonlanacak.\r\n\r\n31 Mart Cuma | 11.00 - 15.00 \r\nŞişecam Genel Merkezi\r\nİçmeler Mahallesi\, D-100 Karayolu Caddesi\, No:44A \r\nTuzla/İstanbul\r\n\r\nKontenjan 30 kişi ile sınırlıdır.\r\nSon başvuru tarihi: 28 Mart Çarşamba - 17.00
DTEND:20230331T235900Z
LOCATION:Şişecam Genel Merkezi\r\nİçmeler Mahallesi\, D-100 Karayolu Caddesi\, No:44A \r\nTuzla/İstanbul
ORGANIZER;CN=Turkey Design Council:mailto:Turkey Design Council
DTSTART:20230331T110000Z
SUMMARY:Madde - 1: Cam
UID:dc931c1c-c8a2-4a69-9051-361347426a2c@dc93.org
END:VEVENT
END:VCALENDAR