BEGIN:VCALENDAR
VERSION:2.0
PRODID:ics.py - http://git.io/lLljaA
BEGIN:VEVENT
DESCRIPTION:Tokyo'nun katmanlarını birlikte tanımak isteyen herkesi açık seminere davet ediyoruz!
DTEND:20250827T235900Z
LOCATION:Kuzguncuk İskelesi
ORGANIZER;CN=Turkey Design Council:mailto:Turkey Design Council
DTSTART:20250827T000000Z
SUMMARY:TTV Akademi — Rahman Kaç
UID:c4dddc34-0eea-4e30-b0c2-7b6822152c20@c4dd.org
END:VEVENT
END:VCALENDAR