BEGIN:VCALENDAR
VERSION:2.0
PRODID:ics.py - http://git.io/lLljaA
BEGIN:VEVENT
DESCRIPTION:📍 18.45 Konuşmaları | Kültürel Katmanlardan Tasarıma\r\nTakı tasarımcısı ve ZOYA’nın kurucusu Hülya Öz\, mimarlık kökenli birikimini\; malzeme araştırmaları\, zanaat bilgisi ve kültürel mirasla buluşturarak geliştirdiği tasarım yaklaşımını bizlerle paylaşıyor.
DTEND:20260121T235900Z
LOCATION:Kuzguncuk İskelesi
ORGANIZER;CN=Turkey Design Council:mailto:Turkey Design Council
DTSTART:20260121T000000Z
SUMMARY:Kültürel Katmanlardan Tasarıma
UID:b15d5212-23d1-4c37-94a3-88682f2f40fc@b15d.org
END:VEVENT
END:VCALENDAR