BEGIN:VCALENDAR
VERSION:2.0
PRODID:ics.py - http://git.io/lLljaA
BEGIN:VEVENT
DESCRIPTION:We talked to Laris Alara Kilimci\, who created different and remarkable designs by playing with patterns in her own studio\, and talked about her own design process and different dimensions of the design.
DTEND:20191017T235900Z
ORGANIZER;CN=Turkey Design Council:mailto:Turkey Design Council
DTSTART:20191017T000000Z
SUMMARY:Tasarımda Bireyselliğin Efektleri
UID:e30003ee-4f7f-4886-b4ee-988dc6354700@e300.org
END:VEVENT
END:VCALENDAR