BEGIN:VCALENDAR
VERSION:2.0
PRODID:ics.py - http://git.io/lLljaA
BEGIN:VEVENT
DESCRIPTION:Pots and pans are located in every kitchen for generations. While the rising trend of healthy life in the world leads people to enamel\, a brand named Kapka was established with the initiative of 3 women. Kapka\, which manufactures pots and pans that use natural materials by considering the environment and human life in every detail\, from its raw material to the paint that gives life to designs\, has turned these enamels into a hand-made design product\, without being fabricated in accordance with its spirit. The brand\, which attracts attention with its unique designs\, has reached sales points and museums / restaurants / cafes in many parts of the world in 3 years. Kapge co-founder Bilge and Saime shared their 3-year brand experience with us.
DTEND:20191128T235900Z
ORGANIZER;CN=Turkey Design Council:mailto:Turkey Design Council
DTSTART:20191128T000000Z
SUMMARY:Kuşaklar Boyunca Sürdürülebilir Bir Ürünün Markalaşma Hikayesi
UID:52b1c4f2-7598-44f2-93c8-21fe3db23d52@52b1.org
END:VEVENT
END:VCALENDAR