BEGIN:VCALENDAR
VERSION:2.0
PRODID:ics.py - http://git.io/lLljaA
BEGIN:VEVENT
DESCRIPTION:We listened to the concept of the neighborhood\, which is one of the units where people can live together and maintain their optimism on an urban scale\, and Kuzguncuk from Nevzat Sayın.
DTEND:20200307T235900Z
ORGANIZER;CN=Turkey Design Council:mailto:Turkey Design Council
DTSTART:20200307T000000Z
SUMMARY:Ortak Bir Yaşam Alanı Olarak Semt
UID:806a9fd7-b4cf-4663-91ba-ba615f8fff92@806a.org
END:VEVENT
END:VCALENDAR