BEGIN:VCALENDAR
VERSION:2.0
PRODID:ics.py - http://git.io/lLljaA
BEGIN:VEVENT
DESCRIPTION:Oyunlar\, bilim kurgu filmleri ve animasyonlar için oluşturulan karakterler ve konseptler nasıl tasarlanır? Hangi tekniklerden ve dinamiklerden yola çıkılır? Bu soruların cevaplarını teorik ve pratik olarak aradık.
DTEND:20190413T235900Z
ORGANIZER;CN=Türkiye Tasarım Vakfı:mailto:Türkiye Tasarım Vakfı
DTSTART:20190413T000000Z
SUMMARY:Karakter ve Konsept
UID:0f9c8ea5-f778-4b90-b76c-44288d90bbac@0f9c.org
END:VEVENT
END:VCALENDAR