BEGIN:VCALENDAR
VERSION:2.0
PRODID:ics.py - http://git.io/lLljaA
BEGIN:VEVENT
DESCRIPTION:Atölye | VR Atölyesi • Yenilikçi öğretim teknolojisi Virtual Reality (Sanal Gerçeklik) nedir\, nasıl kullanılır ve bu teknoloji tasarım süreçlerine nasıl dahil edilebilir? 3 boyutlu bir modeli sanal gerçeklik ile deneyimleyebileceğiniz VR Atölyesi\, 14 Nisan Cuma günü 14.00’te Atölye Üsküdar’da!
DTEND:20230414T235900Z
LOCATION:Atölye Üsküdar
ORGANIZER;CN=Türkiye Tasarım Vakfı:mailto:Türkiye Tasarım Vakfı
DTSTART:20230414T140000Z
SUMMARY:VR Atölyesi
UID:628e25e7-85ec-4c2f-8acc-3537dd7d1cc2@628e.org
END:VEVENT
END:VCALENDAR