BEGIN:VCALENDAR
VERSION:2.0
PRODID:ics.py - http://git.io/lLljaA
BEGIN:VEVENT
DESCRIPTION:Design Thinking\; tasarım odaklı yaratıcı düşünceyi ele alır ve çözümü tetiklemek için kullanır. | Türkiye Tasarım Vakfı\, MBM Turkey işbirliği ile Design Thinking Eğitimi düzenledi. 20 Temmuz’da gerçekleşen eğitim üç aşamada ilerledi\; empati\, fikir üretme ve tekrarlama
DTEND:20190720T235900Z
ORGANIZER;CN=Türkiye Tasarım Vakfı:mailto:Türkiye Tasarım Vakfı
DTSTART:20190720T000000Z
SUMMARY:Design Thinking Eğitimi
UID:8defe751-650e-450f-ae55-3f0ef3b9d4cf@8def.org
END:VEVENT
END:VCALENDAR