BEGIN:VCALENDAR
VERSION:2.0
PRODID:ics.py - http://git.io/lLljaA
BEGIN:VEVENT
DESCRIPTION:İlham veren konuşmalar serisi olan 18:45 Konuşmaları’nda moda tasarımcısı Tanju Babacan\, Tasarımda Rastlantısal Boşluk başlığıyla İskele'deydi.
DTEND:20191114T235900Z
ORGANIZER;CN=Türkiye Tasarım Vakfı:mailto:Türkiye Tasarım Vakfı
DTSTART:20191114T000000Z
SUMMARY:Tasarımda Rastlantısal Boşluk
UID:a08529d4-5a60-4233-885c-85d9edc52e63@a085.org
END:VEVENT
END:VCALENDAR