BEGIN:VCALENDAR
VERSION:2.0
PRODID:ics.py - http://git.io/lLljaA
BEGIN:VEVENT
DESCRIPTION:Eren Su Kibele Yarman deneyimlerini ve çalışmalarını bizlerle paylaştı.
DTEND:20200206T235900Z
ORGANIZER;CN=Türkiye Tasarım Vakfı:mailto:Türkiye Tasarım Vakfı
DTSTART:20200206T000000Z
SUMMARY:İyi Günler\, Kötü Günler
UID:7421c9a9-a133-4d83-aef1-0300c95e15c8@7421.org
END:VEVENT
END:VCALENDAR