BEGIN:VCALENDAR
VERSION:2.0
PRODID:ics.py - http://git.io/lLljaA
BEGIN:VEVENT
DESCRIPTION:Mimarlık dünyasında farklı disiplinlerle sosyal faaliyetler yürütmek\, yapı inşa etmek kadar kıymetli. 2006 yılında Gregers Tang Thomsen ve Selva Gürdoğan tarafından kurulan Superpool\, ekip çalışmasını önceliklendiren\; iç mekândan eğitim tasarımına\, oyun parklarından eğitim tasarımına kadar pek çok boyutta tasarım yapılabileceğini savunan bir mimarlık ofisi. 2013-2019 yılları arasında faaliyet gösteren Studio-X Istanbul’un da direktörlüğünü üstlenmiş olan Selva Gürdoğan’dan kent-çocuk temalı çalışmaları dahil olmak üzere tasarım dünyasına farklı bakış açıları katmayı amaçlayan hikâyelerini dinledik.
DTEND:20200208T235900Z
ORGANIZER;CN=Türkiye Tasarım Vakfı:mailto:Türkiye Tasarım Vakfı
DTSTART:20200208T000000Z
SUMMARY:Cömertliğin Mimarisi
UID:396c4146-03c7-4ab0-b5c5-067a72f772d7@396c.org
END:VEVENT
END:VCALENDAR