BEGIN:VCALENDAR
VERSION:2.0
PRODID:ics.py - http://git.io/lLljaA
BEGIN:VEVENT
DESCRIPTION:Ağırlıklı olarak ileri dönüşüm konusunda çalışmalar yapan tasarımcı Pınar Akkurt’un\, günümüzde iyice popülerleşen geri dönüşüm ve ileri dönüşüm kavramları hakkında bilgi verdi\, yaptığı işler ve düzenlediği atölyelerden örneklerle süreçlerini bizlerle paylaştı.
DTEND:20200227T235900Z
ORGANIZER;CN=Türkiye Tasarım Vakfı:mailto:Türkiye Tasarım Vakfı
DTSTART:20200227T000000Z
SUMMARY:Bir İleri Bir Geri\, Dönüşüm Meselesi
UID:5acb1dd6-a0c0-4089-9705-63f9b417f574@5acb.org
END:VEVENT
END:VCALENDAR